Package: cytofQC Version: 1.4.0 Command: /home/biocbuild/R/R-beta-2024-04-15_r86425/bin/R CMD build --keep-empty-dirs --no-resave-data cytofQC StartedAt: 2024-05-08 23:40:51 -0000 (Wed, 08 May 2024) EndedAt: 2024-05-08 23:42:42 -0000 (Wed, 08 May 2024) EllapsedTime: 111.1 seconds RetCode: 0 Status: OK PackageFile: cytofQC_1.4.0.tar.gz PackageFileSize: 1.297 MiB