Package: cytoMEM Version: 1.8.0 Command: rm -rf cytoMEM.buildbin-libdir && mkdir cytoMEM.buildbin-libdir && E:\biocbuild\bbs-3.19-bioc\R\bin\R.exe CMD INSTALL --build --library=cytoMEM.buildbin-libdir cytoMEM_1.8.0.tar.gz StartedAt: 2024-10-17 07:38:05 -0400 (Thu, 17 Oct 2024) EndedAt: 2024-10-17 07:38:23 -0400 (Thu, 17 Oct 2024) EllapsedTime: 17.3 seconds RetCode: 0 Status: OK PackageFile: cytoMEM_1.8.0.zip PackageFileSize: 2.993 MiB