Package: cytoMEM Version: 1.8.0 Command: /home/biocbuild/bbs-3.19-bioc/R/bin/R CMD check --install=check:cytoMEM.install-out.txt --library=/home/biocbuild/bbs-3.19-bioc/R/site-library --timings cytoMEM_1.8.0.tar.gz StartedAt: 2024-10-16 23:24:16 -0400 (Wed, 16 Oct 2024) EndedAt: 2024-10-16 23:25:38 -0400 (Wed, 16 Oct 2024) EllapsedTime: 82.1 seconds RetCode: 0 Status: OK CheckDir: cytoMEM.Rcheck Warnings: 0