Package: cytoMEM Version: 1.8.0 Command: /home/biocbuild/bbs-3.19-bioc/R/bin/R CMD build --keep-empty-dirs --no-resave-data cytoMEM StartedAt: 2024-10-16 18:03:45 -0400 (Wed, 16 Oct 2024) EndedAt: 2024-10-16 18:04:01 -0400 (Wed, 16 Oct 2024) EllapsedTime: 16.0 seconds RetCode: 0 Status: OK PackageFile: cytoMEM_1.8.0.tar.gz PackageFileSize: 3.011 MiB