Package: cytoMEM Version: 1.8.0 Command: /Library/Frameworks/R.framework/Resources/bin/R CMD check --install=check:cytoMEM.install-out.txt --library=/Library/Frameworks/R.framework/Resources/library --no-vignettes --timings cytoMEM_1.8.0.tar.gz StartedAt: 2024-06-09 19:47:53 -0400 (Sun, 09 Jun 2024) EndedAt: 2024-06-09 19:49:04 -0400 (Sun, 09 Jun 2024) EllapsedTime: 70.3 seconds RetCode: 0 Status: OK CheckDir: cytoMEM.Rcheck Warnings: 0