Package: cytoMEM Version: 1.8.0 Command: /home/biocbuild/R/R-beta-2024-04-15_r86425/bin/R CMD INSTALL cytoMEM StartedAt: 2024-05-08 20:15:22 -0000 (Wed, 08 May 2024) EndedAt: 2024-05-08 20:15:33 -0000 (Wed, 08 May 2024) EllapsedTime: 11.5 seconds RetCode: 0 Status: OK