Package: cytoMEM Version: 1.8.0 Command: /home/biocbuild/R/R-beta-2024-04-15_r86425/bin/R CMD check --install=check:cytoMEM.install-out.txt --library=/home/biocbuild/R/R-beta-2024-04-15_r86425/site-library --no-vignettes --timings cytoMEM_1.8.0.tar.gz StartedAt: 2024-05-09 06:27:40 -0000 (Thu, 09 May 2024) EndedAt: 2024-05-09 06:28:47 -0000 (Thu, 09 May 2024) EllapsedTime: 67.1 seconds RetCode: 0 Status: OK CheckDir: cytoMEM.Rcheck Warnings: 0