Package: cytoMEM Version: 1.8.0 Command: /home/biocbuild/R/R-beta-2024-04-15_r86425/bin/R CMD build --keep-empty-dirs --no-resave-data cytoMEM StartedAt: 2024-05-08 23:42:03 -0000 (Wed, 08 May 2024) EndedAt: 2024-05-08 23:42:25 -0000 (Wed, 08 May 2024) EllapsedTime: 22.0 seconds RetCode: 0 Status: OK PackageFile: cytoMEM_1.8.0.tar.gz PackageFileSize: 2.981 MiB