Package: cytoMEM Version: 1.8.0 Command: rm -rf cytoMEM.buildbin-libdir && mkdir cytoMEM.buildbin-libdir && /Users/biocbuild/BBS/utils/build-universal.sh cytoMEM_1.8.0.tar.gz /Library/Frameworks/R.framework/Resources/bin/R cytoMEM.buildbin-libdir StartedAt: 2024-10-18 18:03:45 -0400 (Fri, 18 Oct 2024) EndedAt: 2024-10-18 18:03:56 -0400 (Fri, 18 Oct 2024) EllapsedTime: 11.5 seconds RetCode: 0 Status: OK PackageFile: cytoMEM_1.8.0.tgz PackageFileSize: 3.12 MiB