Package: cytoKernel Version: 1.10.0 Command: rm -rf cytoKernel.buildbin-libdir && mkdir cytoKernel.buildbin-libdir && E:\biocbuild\bbs-3.19-bioc\R\bin\R.exe CMD INSTALL --build --library=cytoKernel.buildbin-libdir cytoKernel_1.10.0.tar.gz StartedAt: 2024-10-17 07:37:49 -0400 (Thu, 17 Oct 2024) EndedAt: 2024-10-17 07:38:33 -0400 (Thu, 17 Oct 2024) EllapsedTime: 44.5 seconds RetCode: 0 Status: OK PackageFile: cytoKernel_1.10.0.zip PackageFileSize: 1.081 MiB