Package: cytoKernel Version: 1.10.0 Command: rm -rf cytoKernel.buildbin-libdir && mkdir cytoKernel.buildbin-libdir && /Users/biocbuild/BBS/utils/build-universal.sh cytoKernel_1.10.0.tar.gz /Library/Frameworks/R.framework/Resources/bin/R cytoKernel.buildbin-libdir StartedAt: 2024-10-18 18:03:19 -0400 (Fri, 18 Oct 2024) EndedAt: 2024-10-18 18:04:04 -0400 (Fri, 18 Oct 2024) EllapsedTime: 45.6 seconds RetCode: 0 Status: OK PackageFile: cytoKernel_1.10.0.tgz PackageFileSize: 832.1 KiB