Package: cypress Version: 1.0.0 Command: /home/biocbuild/bbs-3.19-bioc/R/bin/R CMD check --install=check:cypress.install-out.txt --library=/home/biocbuild/bbs-3.19-bioc/R/site-library --timings cypress_1.0.0.tar.gz StartedAt: 2024-10-16 23:22:02 -0400 (Wed, 16 Oct 2024) EndedAt: 2024-10-16 23:37:38 -0400 (Wed, 16 Oct 2024) EllapsedTime: 935.9 seconds RetCode: 0 Status: OK CheckDir: cypress.Rcheck Warnings: 0