Package: cypress Version: 1.0.0 Command: /Library/Frameworks/R.framework/Resources/bin/R CMD build --keep-empty-dirs --no-resave-data cypress StartedAt: 2024-10-16 22:35:16 -0400 (Wed, 16 Oct 2024) EndedAt: 2024-10-16 22:40:21 -0400 (Wed, 16 Oct 2024) EllapsedTime: 305.7 seconds RetCode: 0 Status: OK PackageFile: cypress_1.0.0.tar.gz PackageFileSize: 2.719 MiB