Package: cycle Version: 1.58.0 Command: rm -rf cycle.buildbin-libdir && mkdir cycle.buildbin-libdir && E:\biocbuild\bbs-3.19-bioc\R\bin\R.exe CMD INSTALL --build --library=cycle.buildbin-libdir cycle_1.58.0.tar.gz StartedAt: 2024-10-17 07:37:34 -0400 (Thu, 17 Oct 2024) EndedAt: 2024-10-17 07:37:42 -0400 (Thu, 17 Oct 2024) EllapsedTime: 7.7 seconds RetCode: 0 Status: OK PackageFile: cycle_1.58.0.zip PackageFileSize: 126.7 KiB