Package: cycle Version: 1.58.0 Command: F:\biocbuild\bbs-3.19-bioc\R\bin\R.exe CMD check --no-multiarch --install=check:cycle.install-out.txt --library=F:\biocbuild\bbs-3.19-bioc\R\library --no-vignettes --timings cycle_1.58.0.tar.gz StartedAt: 2024-06-27 00:37:37 -0400 (Thu, 27 Jun 2024) EndedAt: 2024-06-27 00:38:14 -0400 (Thu, 27 Jun 2024) EllapsedTime: 37.1 seconds RetCode: 0 Status: OK CheckDir: cycle.Rcheck Warnings: 0