Package: cycle Version: 1.58.0 Command: chmod a+r cycle -R && F:\biocbuild\bbs-3.19-bioc\R\bin\R.exe CMD build --keep-empty-dirs --no-resave-data cycle StartedAt: 2024-06-26 18:07:01 -0400 (Wed, 26 Jun 2024) EndedAt: 2024-06-26 18:07:31 -0400 (Wed, 26 Jun 2024) EllapsedTime: 30.5 seconds RetCode: 0 Status: OK PackageFile: cycle_1.58.0.tar.gz PackageFileSize: 104.3 KiB