Package: cycle Version: 1.58.0 Command: rm -rf cycle.buildbin-libdir && mkdir cycle.buildbin-libdir && F:\biocbuild\bbs-3.19-bioc\R\bin\R.exe CMD INSTALL --build --library=cycle.buildbin-libdir cycle_1.58.0.tar.gz StartedAt: 2024-06-27 08:04:11 -0400 (Thu, 27 Jun 2024) EndedAt: 2024-06-27 08:04:17 -0400 (Thu, 27 Jun 2024) EllapsedTime: 6.9 seconds RetCode: 0 Status: OK PackageFile: cycle_1.58.0.zip PackageFileSize: 126.5 KiB