Package: cycle Version: 1.58.0 Command: /home/biocbuild/bbs-3.19-bioc/R/bin/R CMD INSTALL cycle StartedAt: 2024-10-16 15:53:29 -0400 (Wed, 16 Oct 2024) EndedAt: 2024-10-16 15:53:32 -0400 (Wed, 16 Oct 2024) EllapsedTime: 3.5 seconds RetCode: 0 Status: OK