Package: cycle Version: 1.58.0 Command: rm -rf cycle.buildbin-libdir && mkdir cycle.buildbin-libdir && /Users/biocbuild/BBS/utils/build-universal.sh cycle_1.58.0.tar.gz /Library/Frameworks/R.framework/Resources/bin/R cycle.buildbin-libdir StartedAt: 2024-10-17 15:57:35 -0400 (Thu, 17 Oct 2024) EndedAt: 2024-10-17 15:57:46 -0400 (Thu, 17 Oct 2024) EllapsedTime: 11.7 seconds RetCode: 0 Status: OK PackageFile: cycle_1.58.0.tgz PackageFileSize: 267.1 KiB