Package: cycle Version: 1.58.0 Command: /home/biocbuild/R/R-beta-2024-04-15_r86425/bin/R CMD build --keep-empty-dirs --no-resave-data cycle StartedAt: 2024-05-08 23:40:18 -0000 (Wed, 08 May 2024) EndedAt: 2024-05-08 23:40:51 -0000 (Wed, 08 May 2024) EllapsedTime: 33.0 seconds RetCode: 0 Status: OK PackageFile: cycle_1.58.0.tar.gz PackageFileSize: 240.9 KiB