Package: cycle Version: 1.58.0 Command: /Library/Frameworks/R.framework/Resources/bin/R CMD INSTALL cycle StartedAt: 2024-06-09 15:12:37 -0400 (Sun, 09 Jun 2024) EndedAt: 2024-06-09 15:12:50 -0400 (Sun, 09 Jun 2024) EllapsedTime: 12.4 seconds RetCode: 0 Status: OK