Package: cycle Version: 1.58.0 Command: rm -rf cycle.buildbin-libdir && mkdir cycle.buildbin-libdir && /Users/biocbuild/BBS/utils/build-universal.sh cycle_1.58.0.tar.gz /Library/Frameworks/R.framework/Resources/bin/R cycle.buildbin-libdir StartedAt: 2024-06-11 10:48:42 -0400 (Tue, 11 Jun 2024) EndedAt: 2024-06-11 10:49:12 -0400 (Tue, 11 Jun 2024) EllapsedTime: 30.1 seconds RetCode: 0 Status: OK PackageFile: cycle_1.58.0.tgz PackageFileSize: 266.9 KiB