Package: cycle
Version: 1.58.0
Command: /Library/Frameworks/R.framework/Resources/bin/R CMD INSTALL cycle
StartedAt: 2024-10-16 15:48:39 -0400 (Wed, 16 Oct 2024)
EndedAt: 2024-10-16 15:48:44 -0400 (Wed, 16 Oct 2024)
EllapsedTime: 5.4 seconds
RetCode: 0
Status: OK