Package: cyanoFilter Version: 1.12.0 Maintainer: Oluwafemi Olusoji MaintainerEmail: oluwafemi.olusoji at uhasselt.be git_url: https://git.bioconductor.org/packages/cyanoFilter git_branch: RELEASE_3_19 git_last_commit: 345bb27 git_last_commit_date: 2024-04-30 11:32:58 -0400 (Tue, 30 Apr 2024)