Package: customProDB Version: 1.44.0 Command: rm -rf customProDB.buildbin-libdir && mkdir customProDB.buildbin-libdir && E:\biocbuild\bbs-3.19-bioc\R\bin\R.exe CMD INSTALL --build --library=customProDB.buildbin-libdir customProDB_1.44.0.tar.gz StartedAt: 2024-10-17 07:37:31 -0400 (Thu, 17 Oct 2024) EndedAt: 2024-10-17 07:38:32 -0400 (Thu, 17 Oct 2024) EllapsedTime: 60.3 seconds RetCode: 0 Status: OK PackageFile: customProDB_1.44.0.zip PackageFileSize: 729.6 KiB