Package: customCMPdb Version: 1.14.0 Command: E:\biocbuild\bbs-3.19-bioc\R\bin\R.exe CMD INSTALL customCMPdb StartedAt: 2024-10-16 17:14:34 -0400 (Wed, 16 Oct 2024) EndedAt: 2024-10-16 17:14:58 -0400 (Wed, 16 Oct 2024) EllapsedTime: 23.8 seconds RetCode: 0 Status: OK