Package: customCMPdb Version: 1.14.0 Command: chmod a+r customCMPdb -R && E:\biocbuild\bbs-3.19-bioc\R\bin\R.exe CMD build --keep-empty-dirs --no-resave-data customCMPdb StartedAt: 2024-10-16 18:28:31 -0400 (Wed, 16 Oct 2024) EndedAt: 2024-10-16 18:31:36 -0400 (Wed, 16 Oct 2024) EllapsedTime: 184.7 seconds RetCode: 0 Status: OK PackageFile: customCMPdb_1.14.0.tar.gz PackageFileSize: 650.5 KiB