Package: customCMPdb Version: 1.14.0 Command: rm -rf customCMPdb.buildbin-libdir && mkdir customCMPdb.buildbin-libdir && F:\biocbuild\bbs-3.19-bioc\R\bin\R.exe CMD INSTALL --build --library=customCMPdb.buildbin-libdir customCMPdb_1.14.0.tar.gz StartedAt: 2024-06-27 08:04:05 -0400 (Thu, 27 Jun 2024) EndedAt: 2024-06-27 08:04:32 -0400 (Thu, 27 Jun 2024) EllapsedTime: 26.9 seconds RetCode: 0 Status: OK PackageFile: customCMPdb_1.14.0.zip PackageFileSize: 690.9 KiB