Package: customCMPdb Version: 1.14.0 Command: /Library/Frameworks/R.framework/Resources/bin/R CMD build --keep-empty-dirs --no-resave-data customCMPdb StartedAt: 2024-10-16 18:22:29 -0400 (Wed, 16 Oct 2024) EndedAt: 2024-10-16 18:27:03 -0400 (Wed, 16 Oct 2024) EllapsedTime: 274.6 seconds RetCode: 0 Status: OK PackageFile: customCMPdb_1.14.0.tar.gz PackageFileSize: 694 KiB