Package: customCMPdb Version: 1.14.0 Command: /home/biocbuild/R/R-beta-2024-04-15_r86425/bin/R CMD build --keep-empty-dirs --no-resave-data customCMPdb StartedAt: 2024-05-08 23:39:47 -0000 (Wed, 08 May 2024) EndedAt: 2024-05-08 23:42:55 -0000 (Wed, 08 May 2024) EllapsedTime: 187.3 seconds RetCode: 0 Status: OK PackageFile: customCMPdb_1.14.0.tar.gz PackageFileSize: 731.3 KiB