Package: customCMPdb Version: 1.14.0 Command: /Library/Frameworks/R.framework/Resources/bin/R CMD INSTALL customCMPdb StartedAt: 2024-10-16 18:36:04 -0400 (Wed, 16 Oct 2024) EndedAt: 2024-10-16 18:36:25 -0400 (Wed, 16 Oct 2024) EllapsedTime: 20.3 seconds RetCode: 0 Status: OK