Package: cummeRbund Version: 2.46.0 Command: E:\biocbuild\bbs-3.19-bioc\R\bin\R.exe CMD INSTALL cummeRbund StartedAt: 2024-10-16 16:48:25 -0400 (Wed, 16 Oct 2024) EndedAt: 2024-10-16 16:50:22 -0400 (Wed, 16 Oct 2024) EllapsedTime: 117.0 seconds RetCode: 0 Status: OK