Package: cummeRbund Version: 2.46.0 Command: /home/biocbuild/bbs-3.19-bioc/R/bin/R CMD INSTALL cummeRbund StartedAt: 2024-10-16 16:22:46 -0400 (Wed, 16 Oct 2024) EndedAt: 2024-10-16 16:23:43 -0400 (Wed, 16 Oct 2024) EllapsedTime: 57.3 seconds RetCode: 0 Status: OK