Package: cummeRbund Version: 2.46.0 Command: /home/biocbuild/bbs-3.19-bioc/R/bin/R CMD build --keep-empty-dirs --no-resave-data cummeRbund StartedAt: 2024-10-16 18:01:56 -0400 (Wed, 16 Oct 2024) EndedAt: 2024-10-16 18:03:45 -0400 (Wed, 16 Oct 2024) EllapsedTime: 109.2 seconds RetCode: 0 Status: OK PackageFile: cummeRbund_2.46.0.tar.gz PackageFileSize: 2.333 MiB