Package: cummeRbund Version: 2.46.0 Command: rm -rf cummeRbund.buildbin-libdir && mkdir cummeRbund.buildbin-libdir && /Users/biocbuild/BBS/utils/build-universal.sh cummeRbund_2.46.0.tar.gz /Library/Frameworks/R.framework/Resources/bin/R cummeRbund.buildbin-libdir StartedAt: 2024-06-11 10:47:51 -0400 (Tue, 11 Jun 2024) EndedAt: 2024-06-11 10:49:49 -0400 (Tue, 11 Jun 2024) EllapsedTime: 118.4 seconds RetCode: 0 Status: OK PackageFile: cummeRbund_2.46.0.tgz PackageFileSize: 3.605 MiB