Package: cummeRbund Version: 2.46.0 Command: rm -rf cummeRbund.buildbin-libdir && mkdir cummeRbund.buildbin-libdir && /Users/biocbuild/BBS/utils/build-universal.sh cummeRbund_2.46.0.tar.gz /Library/Frameworks/R.framework/Resources/bin/R cummeRbund.buildbin-libdir StartedAt: 2024-10-18 18:01:55 -0400 (Fri, 18 Oct 2024) EndedAt: 2024-10-18 18:03:19 -0400 (Fri, 18 Oct 2024) EllapsedTime: 83.2 seconds RetCode: 0 Status: OK PackageFile: cummeRbund_2.46.0.tgz PackageFileSize: 3.595 MiB