Package: ctsGE Version: 1.30.0 Command: rm -rf ctsGE.buildbin-libdir && mkdir ctsGE.buildbin-libdir && E:\biocbuild\bbs-3.19-bioc\R\bin\R.exe CMD INSTALL --build --library=ctsGE.buildbin-libdir ctsGE_1.30.0.tar.gz StartedAt: 2024-10-17 07:37:18 -0400 (Thu, 17 Oct 2024) EndedAt: 2024-10-17 07:37:28 -0400 (Thu, 17 Oct 2024) EllapsedTime: 10.1 seconds RetCode: 0 Status: OK PackageFile: ctsGE_1.30.0.zip PackageFileSize: 762.7 KiB