Package: ctsGE Version: 1.30.0 Command: /Library/Frameworks/R.framework/Resources/bin/R CMD INSTALL ctsGE StartedAt: 2024-10-16 15:59:12 -0400 (Wed, 16 Oct 2024) EndedAt: 2024-10-16 15:59:32 -0400 (Wed, 16 Oct 2024) EllapsedTime: 19.8 seconds RetCode: 0 Status: OK