Package: ctsGE Version: 1.30.0 Command: rm -rf ctsGE.buildbin-libdir && mkdir ctsGE.buildbin-libdir && /Users/biocbuild/BBS/utils/build-universal.sh ctsGE_1.30.0.tar.gz /Library/Frameworks/R.framework/Resources/bin/R ctsGE.buildbin-libdir StartedAt: 2024-10-17 15:57:10 -0400 (Thu, 17 Oct 2024) EndedAt: 2024-10-17 15:57:26 -0400 (Thu, 17 Oct 2024) EllapsedTime: 15.7 seconds RetCode: 0 Status: OK PackageFile: ctsGE_1.30.0.tgz PackageFileSize: 1.168 MiB