Package: ctsGE Version: 1.30.0 Command: rm -rf ctsGE.buildbin-libdir && mkdir ctsGE.buildbin-libdir && /Users/biocbuild/BBS/utils/build-universal.sh ctsGE_1.30.0.tar.gz /Library/Frameworks/R.framework/Resources/bin/R ctsGE.buildbin-libdir StartedAt: 2024-06-10 00:13:41 -0400 (Mon, 10 Jun 2024) EndedAt: 2024-06-10 00:13:50 -0400 (Mon, 10 Jun 2024) EllapsedTime: 9.0 seconds RetCode: 0 Status: OK PackageFile: ctsGE_1.30.0.tgz PackageFileSize: 1.168 MiB