Package: ctsGE Version: 1.30.0 Command: /Library/Frameworks/R.framework/Resources/bin/R CMD INSTALL ctsGE StartedAt: 2024-10-16 17:16:17 -0400 (Wed, 16 Oct 2024) EndedAt: 2024-10-16 17:16:24 -0400 (Wed, 16 Oct 2024) EllapsedTime: 7.2 seconds RetCode: 0 Status: OK