Package: ctsGE Version: 1.30.0 Maintainer: Michal Sharabi-Schwager MaintainerEmail: michalsharabi at gmail.com git_url: https://git.bioconductor.org/packages/ctsGE git_branch: RELEASE_3_19 git_last_commit: 5ece3dd git_last_commit_date: 2024-04-30 10:52:40 -0400 (Tue, 30 Apr 2024)