Package: ctc Version: 1.78.0 Command: chmod a+r ctc -R && F:\biocbuild\bbs-3.19-bioc\R\bin\R.exe CMD build --keep-empty-dirs --no-resave-data ctc StartedAt: 2024-06-26 18:05:05 -0400 (Wed, 26 Jun 2024) EndedAt: 2024-06-26 18:05:15 -0400 (Wed, 26 Jun 2024) EllapsedTime: 10.0 seconds RetCode: 0 Status: OK PackageFile: ctc_1.78.0.tar.gz PackageFileSize: 89.35 KiB