Package: ctc Version: 1.78.0 Command: rm -rf ctc.buildbin-libdir && mkdir ctc.buildbin-libdir && /Users/biocbuild/BBS/utils/build-universal.sh ctc_1.78.0.tar.gz /Library/Frameworks/R.framework/Resources/bin/R ctc.buildbin-libdir StartedAt: 2024-06-11 10:47:17 -0400 (Tue, 11 Jun 2024) EndedAt: 2024-06-11 10:47:24 -0400 (Tue, 11 Jun 2024) EllapsedTime: 6.7 seconds RetCode: 0 Status: OK PackageFile: ctc_1.78.0.tgz PackageFileSize: 317.1 KiB