Package: csdR Version: 1.10.0 Command: F:\biocbuild\bbs-3.19-bioc\R\bin\R.exe CMD check --no-multiarch --install=check:csdR.install-out.txt --library=F:\biocbuild\bbs-3.19-bioc\R\library --no-vignettes --timings csdR_1.10.0.tar.gz StartedAt: 2024-06-27 00:33:42 -0400 (Thu, 27 Jun 2024) EndedAt: 2024-06-27 00:38:45 -0400 (Thu, 27 Jun 2024) EllapsedTime: 302.9 seconds RetCode: 1 Status: ERROR CheckDir: csdR.Rcheck Warnings: NA