Package: csdR Version: 1.10.0 Command: /Library/Frameworks/R.framework/Resources/bin/R CMD INSTALL csdR StartedAt: 2024-10-16 16:14:47 -0400 (Wed, 16 Oct 2024) EndedAt: 2024-10-16 16:15:59 -0400 (Wed, 16 Oct 2024) EllapsedTime: 71.5 seconds RetCode: 0 Status: OK