Package: csdR Version: 1.10.0 Command: /Library/Frameworks/R.framework/Resources/bin/R CMD INSTALL csdR StartedAt: 2024-06-09 15:30:37 -0400 (Sun, 09 Jun 2024) EndedAt: 2024-06-09 15:31:19 -0400 (Sun, 09 Jun 2024) EllapsedTime: 41.8 seconds RetCode: 0 Status: OK