Package: csdR Version: 1.10.0 Command: /home/biocbuild/R/R-beta-2024-04-15_r86425/bin/R CMD build --keep-empty-dirs --no-resave-data csdR StartedAt: 2024-05-08 23:38:01 -0000 (Wed, 08 May 2024) EndedAt: 2024-05-08 23:39:13 -0000 (Wed, 08 May 2024) EllapsedTime: 72.1 seconds RetCode: 0 Status: OK PackageFile: csdR_1.10.0.tar.gz PackageFileSize: 1.386 MiB