Package: csdR Version: 1.10.0 Command: /Library/Frameworks/R.framework/Resources/bin/R CMD check --install=check:csdR.install-out.txt --library=/Library/Frameworks/R.framework/Resources/library --no-vignettes --timings csdR_1.10.0.tar.gz StartedAt: 2024-06-10 12:20:43 -0400 (Mon, 10 Jun 2024) EndedAt: 2024-06-10 12:29:32 -0400 (Mon, 10 Jun 2024) EllapsedTime: 528.3 seconds RetCode: 0 Status: OK CheckDir: csdR.Rcheck Warnings: 0