Package: csdR Version: 1.10.0 Command: rm -rf csdR.buildbin-libdir && mkdir csdR.buildbin-libdir && /Users/biocbuild/BBS/utils/build-universal.sh csdR_1.10.0.tar.gz /Library/Frameworks/R.framework/Resources/bin/R csdR.buildbin-libdir StartedAt: 2024-06-11 10:46:59 -0400 (Tue, 11 Jun 2024) EndedAt: 2024-06-11 10:48:03 -0400 (Tue, 11 Jun 2024) EllapsedTime: 63.6 seconds RetCode: 0 Status: OK PackageFile: csdR_1.10.0.tgz PackageFileSize: 1.504 MiB